git_url: https://git.bioconductor.org/packages/ARRmData git_branch: RELEASE_3_13 git_last_commit: 80e207f git_last_commit_date: 2021-05-19 11:39:21 -0400 (Wed, 19 May 2021) Package: ARRmData Version: 1.28.0 Maintainer: Jean-Philippe Fortin MaintainerEmail: jfortin at jhsph.edu