Package: ARRmData Version: 1.28.0 Command: /home/biocbuild/bbs-3.13-bioc/R/bin/R CMD build --keep-empty-dirs --no-resave-data ARRmData StartedAt: 2021-10-16 11:28:25 -0400 (Sat, 16 Oct 2021) EndedAt: 2021-10-16 11:28:30 -0400 (Sat, 16 Oct 2021) EllapsedTime: 4.9 seconds RetCode: 0 Status: OK PackageFile: ARRmData_1.28.0.tar.gz PackageFileSize: 56.51 MiB