git_url: https://git.bioconductor.org/packages/COPDSexualDimorphism.data git_branch: RELEASE_3_13 git_last_commit: f493f79 git_last_commit_date: 2021-05-19 11:46:50 -0400 (Wed, 19 May 2021) Package: COPDSexualDimorphism.data Version: 1.28.0 Maintainer: J Fah Sathirapongsasuti MaintainerEmail: fah at cs.stanford.edu