git_url: https://git.bioconductor.org/packages/CluMSIDdata git_branch: RELEASE_3_13 git_last_commit: ee100af git_last_commit_date: 2021-05-19 12:07:10 -0400 (Wed, 19 May 2021) Package: CluMSIDdata Version: 1.8.0 Maintainer: Tobias Depke MaintainerEmail: tobias.depke at helmholtz-hzi.de