Package: CluMSIDdata Version: 1.8.0 Command: /home/biocbuild/bbs-3.13-bioc/R/bin/R CMD build --keep-empty-dirs --no-resave-data CluMSIDdata StartedAt: 2021-10-16 11:38:41 -0400 (Sat, 16 Oct 2021) EndedAt: 2021-10-16 11:39:47 -0400 (Sat, 16 Oct 2021) EllapsedTime: 65.9 seconds RetCode: 0 Status: OK PackageFile: CluMSIDdata_1.8.0.tar.gz PackageFileSize: 47.27 MiB