Package: CluMSIDdata Version: 1.8.0 Command: /home/biocbuild/bbs-3.13-bioc/R/bin/R CMD check --install=check:CluMSIDdata.install-out.txt --library=/home/biocbuild/bbs-3.13-bioc/R/library --no-vignettes --timings CluMSIDdata_1.8.0.tar.gz StartedAt: 2021-10-16 12:58:43 -0400 (Sat, 16 Oct 2021) EndedAt: 2021-10-16 12:58:55 -0400 (Sat, 16 Oct 2021) EllapsedTime: 12.2 seconds RetCode: 0 Status: OK CheckDir: CluMSIDdata.Rcheck Warnings: 0