Package: CopyNeutralIMA Version: 1.10.0 Command: /home/biocbuild/bbs-3.13-bioc/R/bin/R CMD INSTALL CopyNeutralIMA StartedAt: 2021-10-16 11:15:00 -0400 (Sat, 16 Oct 2021) EndedAt: 2021-10-16 11:15:18 -0400 (Sat, 16 Oct 2021) EllapsedTime: 17.2 seconds RetCode: 0 Status: OK