Package: CopyhelpeR Version: 1.24.0 Command: /home/biocbuild/bbs-3.13-bioc/R/bin/R CMD check --install=check:CopyhelpeR.install-out.txt --library=/home/biocbuild/bbs-3.13-bioc/R/library --no-vignettes --timings CopyhelpeR_1.24.0.tar.gz StartedAt: 2021-10-16 13:00:05 -0400 (Sat, 16 Oct 2021) EndedAt: 2021-10-16 13:00:19 -0400 (Sat, 16 Oct 2021) EllapsedTime: 13.9 seconds RetCode: 0 Status: OK CheckDir: CopyhelpeR.Rcheck Warnings: 0