Package: DREAM4 Version: 1.28.0 Command: /home/biocbuild/bbs-3.13-bioc/R/bin/R CMD build --keep-empty-dirs --no-resave-data DREAM4 StartedAt: 2021-10-16 11:47:49 -0400 (Sat, 16 Oct 2021) EndedAt: 2021-10-16 11:48:21 -0400 (Sat, 16 Oct 2021) EllapsedTime: 32.4 seconds RetCode: 0 Status: OK PackageFile: DREAM4_1.28.0.tar.gz PackageFileSize: 3.329 MiB