git_url: https://git.bioconductor.org/packages/DeSousa2013 git_branch: RELEASE_3_13 git_last_commit: c9dc4c4 git_last_commit_date: 2021-05-19 11:40:40 -0400 (Wed, 19 May 2021) Package: DeSousa2013 Version: 1.28.0 Maintainer: Xin Wang MaintainerEmail: Xin.Wang at cruk.cam.ac.uk