Package: DeSousa2013 Version: 1.28.0 Command: /home/biocbuild/bbs-3.13-bioc/R/bin/R CMD check --install=check:DeSousa2013.install-out.txt --library=/home/biocbuild/bbs-3.13-bioc/R/library --no-vignettes --timings DeSousa2013_1.28.0.tar.gz StartedAt: 2021-10-16 13:05:04 -0400 (Sat, 16 Oct 2021) EndedAt: 2021-10-16 13:08:51 -0400 (Sat, 16 Oct 2021) EllapsedTime: 227.0 seconds RetCode: 0 Status: OK CheckDir: DeSousa2013.Rcheck Warnings: 0