Package: DropletTestFiles Version: 1.2.0 Command: /home/biocbuild/bbs-3.13-bioc/R/bin/R CMD INSTALL DropletTestFiles StartedAt: 2021-10-16 11:19:38 -0400 (Sat, 16 Oct 2021) EndedAt: 2021-10-16 11:19:51 -0400 (Sat, 16 Oct 2021) EllapsedTime: 12.9 seconds RetCode: 0 Status: OK