Package: DvDdata Version: 1.28.0 Command: /home/biocbuild/bbs-3.13-bioc/R/bin/R CMD build --keep-empty-dirs --no-resave-data DvDdata StartedAt: 2021-10-16 11:49:56 -0400 (Sat, 16 Oct 2021) EndedAt: 2021-10-16 11:50:25 -0400 (Sat, 16 Oct 2021) EllapsedTime: 28.8 seconds RetCode: 0 Status: OK PackageFile: DvDdata_1.28.0.tar.gz PackageFileSize: 43.82 MiB