git_url: https://git.bioconductor.org/packages/FIs git_branch: RELEASE_3_13 git_last_commit: 1da3086 git_last_commit_date: 2021-05-19 11:53:50 -0400 (Wed, 19 May 2021) Package: FIs Version: 1.20.0 Maintainer: Herbert Braselmann , Martin Selmansberger MaintainerEmail: martin.selmansberger at helmholtz-muenchen.de