Package: Fletcher2013a Version: 1.28.0 Command: /home/biocbuild/bbs-3.13-bioc/R/bin/R CMD INSTALL Fletcher2013a StartedAt: 2021-10-16 11:08:05 -0400 (Sat, 16 Oct 2021) EndedAt: 2021-10-16 11:08:19 -0400 (Sat, 16 Oct 2021) EllapsedTime: 14.2 seconds RetCode: 0 Status: OK