Package: GIGSEAdata Version: 1.10.0 Command: /home/biocbuild/bbs-3.13-bioc/R/bin/R CMD build --keep-empty-dirs --no-resave-data GIGSEAdata StartedAt: 2021-10-16 12:05:02 -0400 (Sat, 16 Oct 2021) EndedAt: 2021-10-16 12:05:12 -0400 (Sat, 16 Oct 2021) EllapsedTime: 9.9 seconds RetCode: 0 Status: OK PackageFile: GIGSEAdata_1.10.0.tar.gz PackageFileSize: 6.183 MiB