Package: GIGSEAdata Version: 1.10.0 Command: /home/biocbuild/bbs-3.13-bioc/R/bin/R CMD INSTALL GIGSEAdata StartedAt: 2021-10-16 11:03:45 -0400 (Sat, 16 Oct 2021) EndedAt: 2021-10-16 11:03:51 -0400 (Sat, 16 Oct 2021) EllapsedTime: 5.9 seconds RetCode: 0 Status: OK