Package: GSVAdata Version: 1.28.0 Command: /home/biocbuild/bbs-3.13-bioc/R/bin/R CMD check --install=check:GSVAdata.install-out.txt --library=/home/biocbuild/bbs-3.13-bioc/R/library --no-vignettes --timings GSVAdata_1.28.0.tar.gz StartedAt: 2021-10-16 13:17:18 -0400 (Sat, 16 Oct 2021) EndedAt: 2021-10-16 13:18:12 -0400 (Sat, 16 Oct 2021) EllapsedTime: 53.1 seconds RetCode: 0 Status: OK CheckDir: GSVAdata.Rcheck Warnings: 0