Package: GSVAdata Version: 1.28.0 Command: /home/biocbuild/bbs-3.13-bioc/R/bin/R CMD INSTALL GSVAdata StartedAt: 2021-10-16 11:20:11 -0400 (Sat, 16 Oct 2021) EndedAt: 2021-10-16 11:20:23 -0400 (Sat, 16 Oct 2021) EllapsedTime: 11.5 seconds RetCode: 0 Status: OK