Package: HiCDataLymphoblast Version: 1.28.0 Command: /home/biocbuild/bbs-3.13-bioc/R/bin/R CMD build --keep-empty-dirs --no-resave-data HiCDataLymphoblast StartedAt: 2021-10-16 12:11:54 -0400 (Sat, 16 Oct 2021) EndedAt: 2021-10-16 12:12:23 -0400 (Sat, 16 Oct 2021) EllapsedTime: 28.4 seconds RetCode: 0 Status: OK PackageFile: HiCDataLymphoblast_1.28.0.tar.gz PackageFileSize: 16.44 MiB