Package: HiCDataLymphoblast Version: 1.28.0 Command: /home/biocbuild/bbs-3.13-bioc/R/bin/R CMD check --install=check:HiCDataLymphoblast.install-out.txt --library=/home/biocbuild/bbs-3.13-bioc/R/library --no-vignettes --timings HiCDataLymphoblast_1.28.0.tar.gz StartedAt: 2021-10-16 13:22:01 -0400 (Sat, 16 Oct 2021) EndedAt: 2021-10-16 13:22:11 -0400 (Sat, 16 Oct 2021) EllapsedTime: 9.9 seconds RetCode: 0 Status: OK CheckDir: HiCDataLymphoblast.Rcheck Warnings: 0