Package: Hiiragi2013 Version: 1.28.0 Command: /home/biocbuild/bbs-3.13-bioc/R/bin/R CMD check --install=check:Hiiragi2013.install-out.txt --library=/home/biocbuild/bbs-3.13-bioc/R/library --no-vignettes --timings Hiiragi2013_1.28.0.tar.gz StartedAt: 2021-10-16 13:22:12 -0400 (Sat, 16 Oct 2021) EndedAt: 2021-10-16 13:25:03 -0400 (Sat, 16 Oct 2021) EllapsedTime: 171.3 seconds RetCode: 0 Status: OK CheckDir: Hiiragi2013.Rcheck Warnings: 0