Package: Hiiragi2013 Version: 1.28.0 Command: /home/biocbuild/bbs-3.13-bioc/R/bin/R CMD INSTALL Hiiragi2013 StartedAt: 2021-10-16 11:11:48 -0400 (Sat, 16 Oct 2021) EndedAt: 2021-10-16 11:12:08 -0400 (Sat, 16 Oct 2021) EllapsedTime: 20.3 seconds RetCode: 0 Status: OK