Package: HumanAffyData Version: 1.18.0 Command: /home/biocbuild/bbs-3.13-bioc/R/bin/R CMD INSTALL HumanAffyData StartedAt: 2021-10-16 11:16:04 -0400 (Sat, 16 Oct 2021) EndedAt: 2021-10-16 11:16:14 -0400 (Sat, 16 Oct 2021) EllapsedTime: 9.8 seconds RetCode: 0 Status: OK