Package: Illumina450ProbeVariants.db Version: 1.28.0 Command: /home/biocbuild/bbs-3.13-bioc/R/bin/R CMD INSTALL Illumina450ProbeVariants.db StartedAt: 2021-10-16 11:12:44 -0400 (Sat, 16 Oct 2021) EndedAt: 2021-10-16 11:12:48 -0400 (Sat, 16 Oct 2021) EllapsedTime: 3.4 seconds RetCode: 0 Status: OK