git_url: https://git.bioconductor.org/packages/IlluminaDataTestFiles git_branch: RELEASE_3_13 git_last_commit: efeef98 git_last_commit_date: 2021-05-19 11:42:54 -0400 (Wed, 19 May 2021) Package: IlluminaDataTestFiles Version: 1.30.0 Maintainer: Kasper Daniel Hansen MaintainerEmail: khansen at jhsph.edu