git_url: https://git.bioconductor.org/packages/JASPAR2014 git_branch: RELEASE_3_13 git_last_commit: b572d47 git_last_commit_date: 2021-05-19 11:44:10 -0400 (Wed, 19 May 2021) Package: JASPAR2014 Version: 1.28.0 Maintainer: Ge Tan MaintainerEmail: ge.tan09 at imperial.ac.uk