git_url: https://git.bioconductor.org/packages/JASPAR2016 git_branch: RELEASE_3_13 git_last_commit: b9a46d3 git_last_commit_date: 2021-05-19 11:54:04 -0400 (Wed, 19 May 2021) Package: JASPAR2016 Version: 1.20.0 Maintainer: Ge Tan MaintainerEmail: ge.tan09 at imperial.ac.uk