Package: JASPAR2016 Version: 1.20.0 Command: /home/biocbuild/bbs-3.13-bioc/R/bin/R CMD check --install=check:JASPAR2016.install-out.txt --library=/home/biocbuild/bbs-3.13-bioc/R/library --no-vignettes --timings JASPAR2016_1.20.0.tar.gz StartedAt: 2021-10-16 13:25:32 -0400 (Sat, 16 Oct 2021) EndedAt: 2021-10-16 13:25:47 -0400 (Sat, 16 Oct 2021) EllapsedTime: 14.9 seconds RetCode: 0 Status: OK CheckDir: JASPAR2016.Rcheck Warnings: 0