Package: M3DExampleData Version: 1.18.0 Command: /home/biocbuild/bbs-3.13-bioc/R/bin/R CMD build --keep-empty-dirs --no-resave-data M3DExampleData StartedAt: 2021-10-16 12:17:27 -0400 (Sat, 16 Oct 2021) EndedAt: 2021-10-16 12:17:28 -0400 (Sat, 16 Oct 2021) EllapsedTime: 1.1 seconds RetCode: 0 Status: OK PackageFile: M3DExampleData_1.18.0.tar.gz PackageFileSize: 2.05 MiB