Package: M3DExampleData Version: 1.18.0 Command: /home/biocbuild/bbs-3.13-bioc/R/bin/R CMD INSTALL M3DExampleData StartedAt: 2021-10-16 11:02:41 -0400 (Sat, 16 Oct 2021) EndedAt: 2021-10-16 11:02:45 -0400 (Sat, 16 Oct 2021) EllapsedTime: 3.3 seconds RetCode: 0 Status: OK