git_url: https://git.bioconductor.org/packages/MEDIPSData git_branch: RELEASE_3_13 git_last_commit: 9224c0f git_last_commit_date: 2021-05-19 11:34:51 -0400 (Wed, 19 May 2021) Package: MEDIPSData Version: 1.28.0 Maintainer: Lukas Chavez MaintainerEmail: lchavez at liai.org