Package: MEDIPSData Version: 1.28.0 Command: /home/biocbuild/bbs-3.13-bioc/R/bin/R CMD build --keep-empty-dirs --no-resave-data MEDIPSData StartedAt: 2021-10-16 12:19:25 -0400 (Sat, 16 Oct 2021) EndedAt: 2021-10-16 12:19:44 -0400 (Sat, 16 Oct 2021) EllapsedTime: 18.8 seconds RetCode: 0 Status: OK PackageFile: MEDIPSData_1.28.0.tar.gz PackageFileSize: 163.1 MiB