Package: MEDIPSData Version: 1.28.0 Command: /home/biocbuild/bbs-3.13-bioc/R/bin/R CMD INSTALL MEDIPSData StartedAt: 2021-10-16 11:02:18 -0400 (Sat, 16 Oct 2021) EndedAt: 2021-10-16 11:02:25 -0400 (Sat, 16 Oct 2021) EllapsedTime: 7.3 seconds RetCode: 0 Status: OK