Package: NCIgraphData Version: 1.28.0 Command: /home/biocbuild/bbs-3.13-bioc/R/bin/R CMD build --keep-empty-dirs --no-resave-data NCIgraphData StartedAt: 2021-10-16 12:24:20 -0400 (Sat, 16 Oct 2021) EndedAt: 2021-10-16 12:24:21 -0400 (Sat, 16 Oct 2021) EllapsedTime: 0.9 seconds RetCode: 0 Status: OK PackageFile: NCIgraphData_1.28.0.tar.gz PackageFileSize: 5.254 MiB