git_url: https://git.bioconductor.org/packages/PathNetData git_branch: RELEASE_3_13 git_last_commit: 3eb61b2 git_last_commit_date: 2021-05-19 11:39:00 -0400 (Wed, 19 May 2021) Package: PathNetData Version: 1.28.0 Maintainer: Ludwig Geistlinger MaintainerEmail: Ludwig_Geistlinger at hms.harvard.edu