Package: QUBICdata Version: 1.20.0 Command: /home/biocbuild/bbs-3.13-bioc/R/bin/R CMD build --keep-empty-dirs --no-resave-data QUBICdata StartedAt: 2021-10-16 12:28:34 -0400 (Sat, 16 Oct 2021) EndedAt: 2021-10-16 12:28:39 -0400 (Sat, 16 Oct 2021) EllapsedTime: 5.0 seconds RetCode: 0 Status: OK PackageFile: QUBICdata_1.20.0.tar.gz PackageFileSize: 9.844 MiB