Package: RNAinteractMAPK Version: 1.30.0 Command: /home/biocbuild/bbs-3.13-bioc/R/bin/R CMD INSTALL RNAinteractMAPK StartedAt: 2021-10-16 11:25:04 -0400 (Sat, 16 Oct 2021) EndedAt: 2021-10-16 11:25:29 -0400 (Sat, 16 Oct 2021) EllapsedTime: 24.8 seconds RetCode: 0 Status: OK