Package: RTCGA.PANCAN12 Version: 1.20.0 Command: /home/biocbuild/bbs-3.13-bioc/R/bin/R CMD INSTALL RTCGA.PANCAN12 StartedAt: 2021-10-16 11:23:01 -0400 (Sat, 16 Oct 2021) EndedAt: 2021-10-16 11:23:12 -0400 (Sat, 16 Oct 2021) EllapsedTime: 11.1 seconds RetCode: 0 Status: OK