Package: RTCGA.RPPA Version: 1.20.0 Command: /home/biocbuild/bbs-3.13-bioc/R/bin/R CMD build --keep-empty-dirs --no-resave-data RTCGA.RPPA StartedAt: 2021-10-16 12:32:29 -0400 (Sat, 16 Oct 2021) EndedAt: 2021-10-16 12:32:44 -0400 (Sat, 16 Oct 2021) EllapsedTime: 14.6 seconds RetCode: 0 Status: OK PackageFile: RTCGA.RPPA_1.20.0.tar.gz PackageFileSize: 13.09 MiB