Package: RTCGA.RPPA Version: 1.20.0 Command: /home/biocbuild/bbs-3.13-bioc/R/bin/R CMD INSTALL RTCGA.RPPA StartedAt: 2021-10-16 11:23:02 -0400 (Sat, 16 Oct 2021) EndedAt: 2021-10-16 11:23:15 -0400 (Sat, 16 Oct 2021) EllapsedTime: 13.0 seconds RetCode: 0 Status: OK