Package: RTCGA.mRNA Version: 1.20.0 Command: /home/biocbuild/bbs-3.13-bioc/R/bin/R CMD INSTALL RTCGA.mRNA StartedAt: 2021-10-16 11:23:35 -0400 (Sat, 16 Oct 2021) EndedAt: 2021-10-16 11:24:25 -0400 (Sat, 16 Oct 2021) EllapsedTime: 49.9 seconds RetCode: 0 Status: OK