Package: RTCGA.methylation Version: 1.20.0 Command: /home/biocbuild/bbs-3.13-bioc/R/bin/R CMD check --install=check:RTCGA.methylation.install-out.txt --library=/home/biocbuild/bbs-3.13-bioc/R/library --no-vignettes --timings RTCGA.methylation_1.20.0.tar.gz StartedAt: 2021-10-16 13:54:50 -0400 (Sat, 16 Oct 2021) EndedAt: 2021-10-16 13:57:45 -0400 (Sat, 16 Oct 2021) EllapsedTime: 175.3 seconds RetCode: 0 Status: WARNINGS CheckDir: RTCGA.methylation.Rcheck Warnings: 1