Package: RTCGA.methylation Version: 1.20.0 Command: /home/biocbuild/bbs-3.13-bioc/R/bin/R CMD INSTALL RTCGA.methylation StartedAt: 2021-10-16 11:23:12 -0400 (Sat, 16 Oct 2021) EndedAt: 2021-10-16 11:25:51 -0400 (Sat, 16 Oct 2021) EllapsedTime: 159.0 seconds RetCode: 0 Status: OK