Package: RTCGA.miRNASeq Version: 1.20.0 Command: /home/biocbuild/bbs-3.13-bioc/R/bin/R CMD check --install=check:RTCGA.miRNASeq.install-out.txt --library=/home/biocbuild/bbs-3.13-bioc/R/library --no-vignettes --timings RTCGA.miRNASeq_1.20.0.tar.gz StartedAt: 2021-10-16 13:55:14 -0400 (Sat, 16 Oct 2021) EndedAt: 2021-10-16 13:58:30 -0400 (Sat, 16 Oct 2021) EllapsedTime: 196.0 seconds RetCode: 0 Status: WARNINGS CheckDir: RTCGA.miRNASeq.Rcheck Warnings: 1