git_url: https://git.bioconductor.org/packages/RforProteomics git_branch: RELEASE_3_13 git_last_commit: 748f078 git_last_commit_date: 2021-08-20 08:16:41 -0400 (Fri, 20 Aug 2021) Package: RforProteomics Version: 1.30.1 Maintainer: Laurent Gatto MaintainerEmail: laurent.gatto at uclouvain.be