Package: RforProteomics Version: 1.30.1 Command: /home/biocbuild/bbs-3.13-bioc/R/bin/R CMD build --keep-empty-dirs --no-resave-data RforProteomics StartedAt: 2021-10-16 12:29:03 -0400 (Sat, 16 Oct 2021) EndedAt: 2021-10-16 12:35:15 -0400 (Sat, 16 Oct 2021) EllapsedTime: 372.5 seconds RetCode: 1 Status: ERROR PackageFile: None PackageFileSize: NA