git_url: https://git.bioconductor.org/packages/RnBeads.rn5 git_branch: RELEASE_3_13 git_last_commit: 6266f18 git_last_commit_date: 2021-05-19 11:51:43 -0400 (Wed, 19 May 2021) Package: RnBeads.rn5 Version: 1.24.0 Maintainer: RnBeadsAnnotationCreator MaintainerEmail: rnbeads at mpi-inf.mpg.de