git_url: https://git.bioconductor.org/packages/SNPhoodData git_branch: RELEASE_3_13 git_last_commit: 6d4ed21 git_last_commit_date: 2021-05-19 11:53:11 -0400 (Wed, 19 May 2021) Package: SNPhoodData Version: 1.22.0 Maintainer: Christian Arnold MaintainerEmail: christian.arnold at embl.de