git_url: https://git.bioconductor.org/packages/STexampleData git_branch: RELEASE_3_13 git_last_commit: 4209d42 git_last_commit_date: 2021-08-08 14:31:17 -0400 (Sun, 08 Aug 2021) Package: STexampleData Version: 1.0.8 Maintainer: Lukas M. Weber MaintainerEmail: lukas.weber.edu at gmail.com